BEGIN:VCALENDAR
VERSION:2.0
PRODID:-//DP Pro Event Calendar//3.2.7//EN
BEGIN:VEVENT
UID:69defe02-5ee7-45b5-83bb-56fdfab90387
DTSTART;TZID=UTC:20190326T000000
DTEND;TZID=UTC:20190326T000000
DTSTAMP:20181214T110554Z
SUMMARY:Resolución provisional de asignación de plazas
DESCRIPTION:26 de marzo de 2019
LOCATION:
URL:
END:VEVENT
END:VCALENDAR