BEGIN:VCALENDAR
VERSION:2.0
PRODID:-//DP Pro Event Calendar//3.2.7//EN
BEGIN:VEVENT
UID:79028a29-14d7-44c7-a17f-db1aa536ae80
DTSTART;TZID=UTC:20220304T000000
DTEND;TZID=UTC:20220304T000000
DTSTAMP:20220304T093558Z
SUMMARY:Periodo de reclamaciones
DESCRIPTION:[:es]Del 7 al 18 de marzo de 2022 (Para la reclamación hacer clic aquí)[:]
LOCATION:
URL:
END:VEVENT
END:VCALENDAR