BEGIN:VCALENDAR
VERSION:2.0
PRODID:-//DP Pro Event Calendar//3.2.7//EN
BEGIN:VEVENT
UID:b76472fd-a47d-4d91-8528-b1d0ef008acd
DTSTART;TZID=UTC:20220502T000000
DTEND;TZID=UTC:20220502T000000
DTSTAMP:20220502T101203Z
SUMMARY:Periodo de solicitud de plaza
DESCRIPTION:[:es]Del 02 al 27 de mayo de 2022 (Inscripción hacer clic aquí)[:]
LOCATION:
URL:
END:VEVENT
END:VCALENDAR